BEGIN:VCALENDAR
VERSION:2.0
BEGIN:VEVENT
UID:ics69e8edba64980
DTSTAMP:20260422T154810Z
LOCATION:
DESCRIPTION:
URL:https://www.frauenwerk-nordkirche.de/seminar/25-jubilaeum-forum-feministische-theologie/
SUMMARY:25. Jubiläum Forum Feministische Theologie
DTSTART:20230630T140000Z
DTEND:20230701T150000Z
END:VEVENT
END:VCALENDAR
