BEGIN:VCALENDAR
VERSION:2.0
BEGIN:VEVENT
UID:ics69eb286896819
DTSTAMP:20260424T082304Z
LOCATION:Schweden
DESCRIPTION:
URL:https://www.frauenwerk-nordkirche.de/seminar/abenteuer-fuer-ehrenamtliche-in-schweden-1/
SUMMARY:Abenteuer für Ehrenamtliche in Schweden 
DTSTART:20260912T130000Z
DTEND:20260919T080000Z
END:VEVENT
END:VCALENDAR
