BEGIN:VCALENDAR
VERSION:2.0
BEGIN:VEVENT
UID:ics69e5078a52d5d
DTSTAMP:20260419T164914Z
LOCATION:ONLINE Für alle
DESCRIPTION:
URL:https://www.frauenwerk-nordkirche.de/seminar/asozialitaet-diskriminierungssensibel-an-sexarbeiterinnen-erinnern/
SUMMARY:„Asozialität“- Diskriminierungssensibel an Sexarbeiter*innen erinnern
DTSTART:20250218T143000Z
DTEND:20250218T163000Z
END:VEVENT
END:VCALENDAR
