BEGIN:VCALENDAR
VERSION:2.0
BEGIN:VEVENT
UID:ics69e8e73129af2
DTSTAMP:20260422T152017Z
LOCATION:GRAAL-MÜRITZ - FÜR FRAUEN
DESCRIPTION:
URL:https://www.frauenwerk-nordkirche.de/seminar/atem-des-lebens-2/
SUMMARY:Atem des Lebens*
DTSTART:20240926T130000Z
DTEND:20240929T110000Z
END:VEVENT
END:VCALENDAR
