BEGIN:VCALENDAR
VERSION:2.0
BEGIN:VEVENT
UID:ics69e8e667c4d0c
DTSTAMP:20260422T151655Z
LOCATION:
DESCRIPTION:
URL:https://www.frauenwerk-nordkirche.de/seminar/auf-den-spuren-der-hildegard-von-bingen/
SUMMARY:Auf den Spuren der Hildegard von Bingen
DTSTART:20250926T150000Z
DTEND:20250928T120000Z
END:VEVENT
END:VCALENDAR
