BEGIN:VCALENDAR
VERSION:2.0
BEGIN:VEVENT
UID:ics69e8ea95b7ab7
DTSTAMP:20260422T153445Z
LOCATION:ONLINE - FÜR ALLE
DESCRIPTION:
URL:https://www.frauenwerk-nordkirche.de/seminar/bibel-feministisch-gelesen-mit/
SUMMARY:Reden von G*tt im Buch Exodus
DTSTART:20250626T170000Z
DTEND:20250626T190000Z
END:VEVENT
END:VCALENDAR
