BEGIN:VCALENDAR
VERSION:2.0
BEGIN:VEVENT
UID:ics69e8e6332807a
DTSTAMP:20260422T151603Z
LOCATION:ONLINE - FÜR ALLE
DESCRIPTION:
URL:https://www.frauenwerk-nordkirche.de/seminar/default-904aee7150/
SUMMARY:Bibel feministisch gelesen
DTSTART:20230614T170000Z
DTEND:20230614T183000Z
END:VEVENT
END:VCALENDAR
