BEGIN:VCALENDAR
VERSION:2.0
BEGIN:VEVENT
UID:ics69e8e8ed83ef6
DTSTAMP:20260422T152741Z
LOCATION:ONLINE - FÜR ALLE
DESCRIPTION:
URL:https://www.frauenwerk-nordkirche.de/seminar/die-bibel-feministisch-gelesen-mit-renate-jost/
SUMMARY:Die Hebammen Schiffra und Pua
DTSTART:20251113T160000Z
DTEND:20251113T180000Z
END:VEVENT
END:VCALENDAR
