BEGIN:VCALENDAR
VERSION:2.0
BEGIN:VEVENT
UID:ics69e8ec3a386fb
DTSTAMP:20260422T154146Z
LOCATION:Onlineveranstaltung
DESCRIPTION:
URL:https://www.frauenwerk-nordkirche.de/seminar/diversitaet-praktisch-gestalten-frauen-in-ihrer-vielfalt-erreichen-und-einbinden/
SUMMARY:Diversität praktisch gestalten –Frauen* in ihrer Vielfalt erreichen und einbinden
DTSTART:20260226T150000Z
DTEND:20260226T170000Z
END:VEVENT
END:VCALENDAR
