BEGIN:VCALENDAR
VERSION:2.0
BEGIN:VEVENT
UID:ics69e8eae381839
DTSTAMP:20260422T153603Z
LOCATION:Onlineveranstaltung
DESCRIPTION:
URL:https://www.frauenwerk-nordkirche.de/seminar/du-siehst-mich-nach-gen-1613-vielfalt-staerken-und-buendnisse-bilden/
SUMMARY:„Du siehst mich“ (nach Gen 16\,13) - Vielfalt stärken und Bündnisse bilden
DTSTART:20251104T150000Z
DTEND:20251104T170000Z
END:VEVENT
END:VCALENDAR
