BEGIN:VCALENDAR
VERSION:2.0
BEGIN:VEVENT
UID:ics69e8e9c609e14
DTSTAMP:20260422T153118Z
LOCATION:
DESCRIPTION:
URL:https://www.frauenwerk-nordkirche.de/seminar/einfuehrung-in-die-gewaltfreie-kommunikation/
SUMMARY:Einführung in die Gewaltfreie Kommunikation
DTSTART:20260113T150000Z
DTEND:20260113T170000Z
END:VEVENT
END:VCALENDAR
