BEGIN:VCALENDAR
VERSION:2.0
BEGIN:VEVENT
UID:ics69e76229b86d0
DTSTAMP:20260421T114025Z
LOCATION:Online
DESCRIPTION:
URL:https://www.frauenwerk-nordkirche.de/seminar/equal-pay-day-frauen-staerken-damit-geld-leichter-wird-und-waechst/
SUMMARY:Equal Pay Day – Frauen stärken\, damit Geld leichter wird und wächst
DTSTART:20260303T153000Z
DTEND:20260303T173000Z
END:VEVENT
END:VCALENDAR
