BEGIN:VCALENDAR
VERSION:2.0
BEGIN:VEVENT
UID:ics69e8cd556c3a3
DTSTAMP:20260422T132957Z
LOCATION:HANNOVER und ONLINE
DESCRIPTION:
URL:https://www.frauenwerk-nordkirche.de/seminar/fernstudium-theologie-heute-2/
SUMMARY:Fernstudium „Theologie heute“
DTSTART:20260925T102800Z
DTEND:20280220T092800Z
END:VEVENT
END:VCALENDAR
