BEGIN:VCALENDAR
VERSION:2.0
BEGIN:VEVENT
UID:ics69e8ed7d50b36
DTSTAMP:20260422T154709Z
LOCATION:KIEL
DESCRIPTION:
URL:https://www.frauenwerk-nordkirche.de/seminar/frauenfriedenstag-in-kiel/
SUMMARY:FrauenFriedensTag in Kiel 
DTSTART:20240413T090000Z
DTEND:20240413T130000Z
END:VEVENT
END:VCALENDAR
