BEGIN:VCALENDAR
VERSION:2.0
BEGIN:VEVENT
UID:ics69e8e9e4d1245
DTSTAMP:20260422T153148Z
LOCATION:Für Frauen
DESCRIPTION:
URL:https://www.frauenwerk-nordkirche.de/seminar/geh-zeiten-wende/
SUMMARY:Ge(h) - Zeiten -Wende
DTSTART:20231013T140000Z
DTEND:20231014T170000Z
END:VEVENT
END:VCALENDAR
