BEGIN:VCALENDAR
VERSION:2.0
BEGIN:VEVENT
UID:ics69e8e8ed796d1
DTSTAMP:20260422T152741Z
LOCATION:Onlineveranstaltung für alle 
DESCRIPTION:
URL:https://www.frauenwerk-nordkirche.de/seminar/jerusalem-mutterstadt-und-utopie/
SUMMARY:Jerusalem – Mutterstadt und Utopie 
DTSTART:20230330T160000Z
DTEND:20230330T190000Z
END:VEVENT
END:VCALENDAR
