BEGIN:VCALENDAR
VERSION:2.0
BEGIN:VEVENT
UID:ics69e8e9c60750c
DTSTAMP:20260422T153118Z
LOCATION:ONLINE - für alle
DESCRIPTION:
URL:https://www.frauenwerk-nordkirche.de/seminar/mehr-geschlechtergerechtigkeit-jetzt/
SUMMARY:Mehr Geschlechtergerechtigkeit jetzt!*
DTSTART:20230118T150000Z
DTEND:20230118T170000Z
END:VEVENT
END:VCALENDAR
