BEGIN:VCALENDAR
VERSION:2.0
BEGIN:VEVENT
UID:ics69e8e7b4eb41c
DTSTAMP:20260422T152228Z
LOCATION:Onlineveranstaltung
DESCRIPTION:
URL:https://www.frauenwerk-nordkirche.de/seminar/meine-deine-unsere-brille/
SUMMARY:meine – deine – unsere Brille 18.04.2024
DTSTART:20240418T160000Z
DTEND:20240418T180000Z
END:VEVENT
END:VCALENDAR
