BEGIN:VCALENDAR
VERSION:2.0
BEGIN:VEVENT
UID:ics69e8ea24144cf
DTSTAMP:20260422T153252Z
LOCATION:ONLINE - für Frauen
DESCRIPTION:
URL:https://www.frauenwerk-nordkirche.de/seminar/online-werkstatt-zum-evangelischen-frauensonntag-2024/
SUMMARY:Online-Werkstatt zum Evangelischen Frauen*sonntag 2024*
DTSTART:20240319T160000Z
DTEND:20240319T183000Z
END:VEVENT
END:VCALENDAR
