BEGIN:VCALENDAR
VERSION:2.0
BEGIN:VEVENT
UID:ics69e8cd56562dd
DTSTAMP:20260422T132958Z
LOCATION:Ludwigslust\, DeveLUP
DESCRIPTION:
URL:https://www.frauenwerk-nordkirche.de/seminar/radikal-hoeflich/
SUMMARY:Radikal höflich
DTSTART:20260510T073000Z
DTEND:20260510T140000Z
END:VEVENT
END:VCALENDAR
