BEGIN:VCALENDAR
VERSION:2.0
BEGIN:VEVENT
UID:ics69e8e80c8f776
DTSTAMP:20260422T152356Z
LOCATION:HEIDE - für Frauen
DESCRIPTION:
URL:https://www.frauenwerk-nordkirche.de/seminar/sorgt-euch-nicht-wer-dann/
SUMMARY:Präsenz-Werkstatt zum Evangelischen Frauen*sonntag 2024
DTSTART:20240315T130000Z
DTEND:20240315T170000Z
END:VEVENT
END:VCALENDAR
