BEGIN:VCALENDAR
VERSION:2.0
BEGIN:VEVENT
UID:ics69e8ed7d4ec89
DTSTAMP:20260422T154709Z
LOCATION:Hamburg - Für Frauen
DESCRIPTION:
URL:https://www.frauenwerk-nordkirche.de/seminar/spirituelle-gastfreundschaft-erleben-hinduistische-gemeinde/
SUMMARY:Spirituelle Gastfreundschaft erleben: Hinduistische Gemeinde
DTSTART:20220503T153000Z
DTEND:20220503T183000Z
END:VEVENT
END:VCALENDAR
