BEGIN:VCALENDAR
VERSION:2.0
BEGIN:VEVENT
UID:ics69ea4ba10662b
DTSTAMP:20260423T164105Z
LOCATION:Bahnhof Güstrow bis Innenstadt Güstrow
DESCRIPTION:
URL:https://www.frauenwerk-nordkirche.de/seminar/unter-der-lupe-wer-kuemmert-sich-eigentlich-1449838-1/
SUMMARY:Unter der Lupe. Wer kümmert sich eigentlich?
DTSTART:20260602T120000Z
DTEND:20260602T160000Z
END:VEVENT
END:VCALENDAR
