BEGIN:VCALENDAR
VERSION:2.0
BEGIN:VEVENT
UID:ics69e8e6bae54f7
DTSTAMP:20260422T151818Z
LOCATION:Online für alle
DESCRIPTION:
URL:https://www.frauenwerk-nordkirche.de/seminar/visionen-einer-theologie-der-mitgeschoepflichkeit-1/
SUMMARY:Visionen einer Theologie der Mitgeschöpflichkeit
DTSTART:20250129T160000Z
DTEND:20250129T173000Z
END:VEVENT
END:VCALENDAR
