BEGIN:VCALENDAR
VERSION:2.0
BEGIN:VEVENT
UID:ics69e8edba91dec
DTSTAMP:20260422T154810Z
LOCATION:Onlineveranstaltung 
DESCRIPTION:
URL:https://www.frauenwerk-nordkirche.de/seminar/weibliche-genitalbeschneidung-diversitaetssensible-perspektiven-4/
SUMMARY:Weibliche Genitalbeschneidung – Diversitätssensible Perspektiven
DTSTART:20230622T110000Z
DTEND:20230622T140000Z
END:VEVENT
END:VCALENDAR
