BEGIN:VCALENDAR
VERSION:2.0
BEGIN:VEVENT
UID:ics69e8cdd726bad
DTSTAMP:20260422T133207Z
LOCATION:PTI Ludwigslust
DESCRIPTION:
URL:https://www.frauenwerk-nordkirche.de/seminar/weltgebetstag-2026-wochenend-werkstatt-in-mecklenburg-zum-100-jubilaeum-mit-hannah-und-maria/
SUMMARY:Weltgebetstag 2027 Wochenend-Werkstatt in Mecklenburg
DTSTART:20261113T150000Z
DTEND:20261115T110000Z
END:VEVENT
END:VCALENDAR
