BEGIN:VCALENDAR
VERSION:2.0
BEGIN:VEVENT
UID:ics69e8cdb2e8c86
DTSTAMP:20260422T133130Z
LOCATION:Online
DESCRIPTION:
URL:https://www.frauenwerk-nordkirche.de/seminar/weltgebetstag-2027-eine-digitale-reise-zum-jubilaeum-100-jahre-internationaler-wgt/
SUMMARY:Weltgebetstag 2027 - Eine „digitale Reise“
DTSTART:20261014T163000Z
DTEND:20261014T183000Z
END:VEVENT
END:VCALENDAR
