BEGIN:VCALENDAR
VERSION:2.0
BEGIN:VEVENT
UID:ics69e8cdb478f93
DTSTAMP:20260422T133132Z
LOCATION:Kiel
DESCRIPTION:
URL:https://www.frauenwerk-nordkirche.de/seminar/weltgebetstag-2027-tageswerkstatt-in-kiel/
SUMMARY:Weltgebetstag 2027 - Tageswerkstatt in Kiel 
DTSTART:20261107T070000Z
DTEND:20261107T140000Z
END:VEVENT
END:VCALENDAR
