BEGIN:VCALENDAR
VERSION:2.0
BEGIN:VEVENT
UID:ics69e8cdb2e89c2
DTSTAMP:20260422T133130Z
LOCATION:Zingsthof Zingst
DESCRIPTION:
URL:https://www.frauenwerk-nordkirche.de/seminar/weltgebetstag-2027-wochenend-werkstatt-in-pommern-zum-100-jubilaeum-mit-hannah-und-maria/
SUMMARY:Weltgebetstag 2027 Wochenend-Werkstatt in Pommern
DTSTART:20261023T160000Z
DTEND:20261025T110000Z
END:VEVENT
END:VCALENDAR
