BEGIN:VCALENDAR
VERSION:2.0
BEGIN:VEVENT
UID:ics69e8e64831a17
DTSTAMP:20260422T151624Z
LOCATION:HAMBURG - FÜR ALLE
DESCRIPTION:
URL:https://www.frauenwerk-nordkirche.de/termin/neu-christa-wolf-lesen/
SUMMARY:„neu Christa Wolf lesen“
DTSTART:20230318T130000Z
DTEND:20230318T150000Z
END:VEVENT
END:VCALENDAR
